Package: MSA2dist Version: 1.12.0 Command: /Library/Frameworks/R.framework/Resources/bin/R CMD INSTALL MSA2dist StartedAt: 2025-10-13 17:56:48 -0400 (Mon, 13 Oct 2025) EndedAt: 2025-10-13 17:57:52 -0400 (Mon, 13 Oct 2025) EllapsedTime: 64.5 seconds RetCode: 0 Status: OK