Package: MSA2dist Version: 1.12.0 Command: /Library/Frameworks/R.framework/Resources/bin/R CMD build --keep-empty-dirs --no-resave-data MSA2dist StartedAt: 2025-10-14 05:03:58 -0400 (Tue, 14 Oct 2025) EndedAt: 2025-10-14 05:05:28 -0400 (Tue, 14 Oct 2025) EllapsedTime: 89.7 seconds RetCode: 0 Status: OK PackageFile: MSA2dist_1.12.0.tar.gz PackageFileSize: 881.6 KiB