Package: MOSim Version: 2.4.0 Command: /Library/Frameworks/R.framework/Resources/bin/R CMD INSTALL MOSim StartedAt: 2025-10-13 18:12:43 -0400 (Mon, 13 Oct 2025) EndedAt: 2025-10-13 18:13:33 -0400 (Mon, 13 Oct 2025) EllapsedTime: 49.8 seconds RetCode: 0 Status: OK