Package: MOSClip Version: 1.2.3 Command: /home/biocbuild/bbs-3.21-bioc/R/bin/R CMD build --keep-empty-dirs --no-resave-data MOSClip StartedAt: 2025-10-15 18:38:56 -0400 (Wed, 15 Oct 2025) EndedAt: 2025-10-15 18:40:27 -0400 (Wed, 15 Oct 2025) EllapsedTime: 91.1 seconds RetCode: 0 Status: OK PackageFile: MOSClip_1.2.3.tar.gz PackageFileSize: 2.093 MiB