Package: MOSClip Version: 1.2.3 Command: /Library/Frameworks/R.framework/Resources/bin/R CMD INSTALL MOSClip StartedAt: 2025-10-13 16:17:36 -0400 (Mon, 13 Oct 2025) EndedAt: 2025-10-13 16:19:18 -0400 (Mon, 13 Oct 2025) EllapsedTime: 101.9 seconds RetCode: 0 Status: OK