Package: MOSClip Version: 1.2.3 Command: /Library/Frameworks/R.framework/Resources/bin/R CMD build --keep-empty-dirs --no-resave-data MOSClip StartedAt: 2025-10-13 20:45:32 -0400 (Mon, 13 Oct 2025) EndedAt: 2025-10-13 20:49:41 -0400 (Mon, 13 Oct 2025) EllapsedTime: 248.5 seconds RetCode: 0 Status: OK PackageFile: MOSClip_1.2.3.tar.gz PackageFileSize: 2.123 MiB