Package: MOSClip Version: 1.2.3 Command: rm -rf MOSClip.buildbin-libdir && mkdir MOSClip.buildbin-libdir && /Users/biocbuild/BBS/utils/build-universal.sh MOSClip_1.2.3.tar.gz /Library/Frameworks/R.framework/Resources/bin/R MOSClip.buildbin-libdir StartedAt: 2025-10-14 14:08:05 -0400 (Tue, 14 Oct 2025) EndedAt: 2025-10-14 14:10:54 -0400 (Tue, 14 Oct 2025) EllapsedTime: 168.6 seconds RetCode: 0 Status: OK PackageFile: MOSClip_1.2.3.tgz PackageFileSize: 2.407 MiB