Package: MOSClip Version: 1.2.3 Command: /home/biocbuild/R/R/bin/R CMD INSTALL MOSClip StartedAt: 2025-10-13 20:59:46 -0000 (Mon, 13 Oct 2025) EndedAt: 2025-10-13 21:00:58 -0000 (Mon, 13 Oct 2025) EllapsedTime: 71.9 seconds RetCode: 0 Status: OK