Package: MOSClip Version: 1.2.3 Command: /home/biocbuild/R/R/bin/R CMD build --keep-empty-dirs --no-resave-data MOSClip StartedAt: 2025-10-14 02:41:39 -0000 (Tue, 14 Oct 2025) EndedAt: 2025-10-14 02:43:47 -0000 (Tue, 14 Oct 2025) EllapsedTime: 128.0 seconds RetCode: 0 Status: OK PackageFile: MOSClip_1.2.3.tar.gz PackageFileSize: 2.007 MiB