Package: MOSClip Version: 1.2.3 Command: /Library/Frameworks/R.framework/Resources/bin/R CMD INSTALL MOSClip StartedAt: 2025-10-13 17:27:02 -0400 (Mon, 13 Oct 2025) EndedAt: 2025-10-13 17:28:01 -0400 (Mon, 13 Oct 2025) EllapsedTime: 59.3 seconds RetCode: 0 Status: OK