Package: MOSClip Version: 1.2.3 Command: /Library/Frameworks/R.framework/Resources/bin/R CMD build --keep-empty-dirs --no-resave-data MOSClip StartedAt: 2025-10-14 04:54:14 -0400 (Tue, 14 Oct 2025) EndedAt: 2025-10-14 04:56:07 -0400 (Tue, 14 Oct 2025) EllapsedTime: 112.6 seconds RetCode: 0 Status: OK PackageFile: MOSClip_1.2.3.tar.gz PackageFileSize: 2.131 MiB