Package: MOGAMUN Version: 1.18.0 Command: /home/biocbuild/R/R/bin/R CMD INSTALL MOGAMUN StartedAt: 2025-10-13 20:25:14 -0000 (Mon, 13 Oct 2025) EndedAt: 2025-10-13 20:25:24 -0000 (Mon, 13 Oct 2025) EllapsedTime: 9.7 seconds RetCode: 0 Status: OK