Package: MOGAMUN Version: 1.18.0 Command: /Library/Frameworks/R.framework/Resources/bin/R CMD INSTALL MOGAMUN StartedAt: 2025-10-13 15:54:02 -0400 (Mon, 13 Oct 2025) EndedAt: 2025-10-13 15:54:11 -0400 (Mon, 13 Oct 2025) EllapsedTime: 8.5 seconds RetCode: 0 Status: OK