Package: MODA Version: 1.34.0 Command: /home/biocbuild/R/R/bin/R CMD INSTALL MODA StartedAt: 2025-10-13 21:04:52 -0000 (Mon, 13 Oct 2025) EndedAt: 2025-10-13 21:05:20 -0000 (Mon, 13 Oct 2025) EllapsedTime: 28.0 seconds RetCode: 0 Status: OK