Package: MODA Version: 1.34.0 Command: /home/biocbuild/R/R/bin/R CMD build --keep-empty-dirs --no-resave-data MODA StartedAt: 2025-10-14 02:38:19 -0000 (Tue, 14 Oct 2025) EndedAt: 2025-10-14 02:38:20 -0000 (Tue, 14 Oct 2025) EllapsedTime: 1.0 seconds RetCode: 0 Status: OK PackageFile: MODA_1.34.0.tar.gz PackageFileSize: 296.2 KiB