Package: MMDiff2 Version: 1.36.0 Command: /Library/Frameworks/R.framework/Resources/bin/R CMD INSTALL MMDiff2 StartedAt: 2025-10-13 15:52:32 -0400 (Mon, 13 Oct 2025) EndedAt: 2025-10-13 15:53:51 -0400 (Mon, 13 Oct 2025) EllapsedTime: 78.8 seconds RetCode: 0 Status: OK