Package: MLSeq Version: 2.26.0 Command: /home/biocbuild/bbs-3.21-bioc/R/bin/R CMD INSTALL MLSeq StartedAt: 2025-10-15 15:20:59 -0400 (Wed, 15 Oct 2025) EndedAt: 2025-10-15 15:21:33 -0400 (Wed, 15 Oct 2025) EllapsedTime: 33.6 seconds RetCode: 0 Status: OK