Package: MLSeq Version: 2.26.0 Command: /home/biocbuild/bbs-3.21-bioc/R/bin/R CMD build --keep-empty-dirs --no-resave-data MLSeq StartedAt: 2025-10-15 18:35:20 -0400 (Wed, 15 Oct 2025) EndedAt: 2025-10-15 18:37:04 -0400 (Wed, 15 Oct 2025) EllapsedTime: 104.1 seconds RetCode: 0 Status: OK PackageFile: MLSeq_2.26.0.tar.gz PackageFileSize: 640.4 KiB