Package: MLSeq Version: 2.26.0 Command: /home/biocbuild/R/R/bin/R CMD INSTALL MLSeq StartedAt: 2025-10-13 20:33:49 -0000 (Mon, 13 Oct 2025) EndedAt: 2025-10-13 20:34:39 -0000 (Mon, 13 Oct 2025) EllapsedTime: 50.3 seconds RetCode: 0 Status: OK