Package: MLSeq Version: 2.26.0 Command: /Library/Frameworks/R.framework/Resources/bin/R CMD INSTALL MLSeq StartedAt: 2025-10-13 16:22:17 -0400 (Mon, 13 Oct 2025) EndedAt: 2025-10-13 16:22:56 -0400 (Mon, 13 Oct 2025) EllapsedTime: 39.0 seconds RetCode: 0 Status: OK