Package: MLSeq Version: 2.26.0 Command: /Library/Frameworks/R.framework/Resources/bin/R CMD build --keep-empty-dirs --no-resave-data MLSeq StartedAt: 2025-10-14 04:43:29 -0400 (Tue, 14 Oct 2025) EndedAt: 2025-10-14 04:45:30 -0400 (Tue, 14 Oct 2025) EllapsedTime: 121.0 seconds RetCode: 0 Status: OK PackageFile: MLSeq_2.26.0.tar.gz PackageFileSize: 599.5 KiB