Package: MLInterfaces Version: 1.88.1 Command: /home/biocbuild/bbs-3.21-bioc/R/bin/R CMD INSTALL MLInterfaces StartedAt: 2025-10-15 15:27:39 -0400 (Wed, 15 Oct 2025) EndedAt: 2025-10-15 15:28:10 -0400 (Wed, 15 Oct 2025) EllapsedTime: 31.1 seconds RetCode: 0 Status: OK