Package: MLInterfaces Version: 1.88.1 Command: /Library/Frameworks/R.framework/Resources/bin/R CMD build --keep-empty-dirs --no-resave-data MLInterfaces StartedAt: 2025-10-13 20:38:32 -0400 (Mon, 13 Oct 2025) EndedAt: 2025-10-13 20:41:36 -0400 (Mon, 13 Oct 2025) EllapsedTime: 183.6 seconds RetCode: 0 Status: OK PackageFile: MLInterfaces_1.88.1.tar.gz PackageFileSize: 2.806 MiB