Package: MLInterfaces Version: 1.88.1 Command: rm -rf MLInterfaces.buildbin-libdir && mkdir MLInterfaces.buildbin-libdir && /Users/biocbuild/BBS/utils/build-universal.sh MLInterfaces_1.88.1.tar.gz /Library/Frameworks/R.framework/Resources/bin/R MLInterfaces.buildbin-libdir StartedAt: 2025-10-14 14:05:53 -0400 (Tue, 14 Oct 2025) EndedAt: 2025-10-14 14:07:43 -0400 (Tue, 14 Oct 2025) EllapsedTime: 110.3 seconds RetCode: 0 Status: OK PackageFile: MLInterfaces_1.88.1.tgz PackageFileSize: 3.215 MiB