Package: MLInterfaces Version: 1.88.1 Command: /home/biocbuild/R/R/bin/R CMD INSTALL MLInterfaces StartedAt: 2025-10-13 20:43:18 -0000 (Mon, 13 Oct 2025) EndedAt: 2025-10-13 20:44:04 -0000 (Mon, 13 Oct 2025) EllapsedTime: 45.5 seconds RetCode: 0 Status: OK