Package: MLInterfaces Version: 1.88.1 Command: /home/biocbuild/R/R/bin/R CMD build --keep-empty-dirs --no-resave-data MLInterfaces StartedAt: 2025-10-14 02:35:15 -0000 (Tue, 14 Oct 2025) EndedAt: 2025-10-14 02:36:50 -0000 (Tue, 14 Oct 2025) EllapsedTime: 95.0 seconds RetCode: 0 Status: OK PackageFile: MLInterfaces_1.88.1.tar.gz PackageFileSize: 2.638 MiB