Package: MLInterfaces Version: 1.88.1 Command: rm -rf MLInterfaces.buildbin-libdir && mkdir MLInterfaces.buildbin-libdir && /Users/biocbuild/BBS/utils/build-universal.sh MLInterfaces_1.88.1.tar.gz /Library/Frameworks/R.framework/Resources/bin/R MLInterfaces.buildbin-libdir StartedAt: 2025-10-15 19:22:44 -0400 (Wed, 15 Oct 2025) EndedAt: 2025-10-15 19:23:25 -0400 (Wed, 15 Oct 2025) EllapsedTime: 40.7 seconds RetCode: 0 Status: OK PackageFile: MLInterfaces_1.88.1.tgz PackageFileSize: 3.218 MiB