Package: MBECS Version: 1.12.0 Command: /home/biocbuild/bbs-3.21-bioc/R/bin/R CMD INSTALL MBECS StartedAt: 2025-10-15 15:27:49 -0400 (Wed, 15 Oct 2025) EndedAt: 2025-10-15 15:28:09 -0400 (Wed, 15 Oct 2025) EllapsedTime: 20.6 seconds RetCode: 0 Status: OK