Package: MBECS Version: 1.12.0 Command: /home/biocbuild/bbs-3.21-bioc/R/bin/R CMD build --keep-empty-dirs --no-resave-data MBECS StartedAt: 2025-10-15 18:20:02 -0400 (Wed, 15 Oct 2025) EndedAt: 2025-10-15 18:21:07 -0400 (Wed, 15 Oct 2025) EllapsedTime: 65.0 seconds RetCode: 0 Status: OK PackageFile: MBECS_1.12.0.tar.gz PackageFileSize: 1.647 MiB