Package: MBECS Version: 1.12.0 Command: /home/biocbuild/R/R/bin/R CMD INSTALL MBECS StartedAt: 2025-10-13 20:43:40 -0000 (Mon, 13 Oct 2025) EndedAt: 2025-10-13 20:44:10 -0000 (Mon, 13 Oct 2025) EllapsedTime: 29.7 seconds RetCode: 0 Status: OK