Package: MBECS Version: 1.12.0 Command: /home/biocbuild/R/R/bin/R CMD build --keep-empty-dirs --no-resave-data MBECS StartedAt: 2025-10-14 02:09:46 -0000 (Tue, 14 Oct 2025) EndedAt: 2025-10-14 02:11:24 -0000 (Tue, 14 Oct 2025) EllapsedTime: 98.0 seconds RetCode: 0 Status: OK PackageFile: MBECS_1.12.0.tar.gz PackageFileSize: 1.635 MiB