Package: MBECS Version: 1.12.0 Command: /Library/Frameworks/R.framework/Resources/bin/R CMD build --keep-empty-dirs --no-resave-data MBECS StartedAt: 2025-10-14 03:34:22 -0400 (Tue, 14 Oct 2025) EndedAt: 2025-10-14 03:35:44 -0400 (Tue, 14 Oct 2025) EllapsedTime: 81.4 seconds RetCode: 0 Status: OK PackageFile: MBECS_1.12.0.tar.gz PackageFileSize: 1.727 MiB