Package: MBASED Version: 1.42.0 Command: /home/biocbuild/R/R/bin/R CMD build --keep-empty-dirs --no-resave-data MBASED StartedAt: 2025-10-14 02:09:33 -0000 (Tue, 14 Oct 2025) EndedAt: 2025-10-14 02:12:57 -0000 (Tue, 14 Oct 2025) EllapsedTime: 204.1 seconds RetCode: 0 Status: OK PackageFile: MBASED_1.42.0.tar.gz PackageFileSize: 352.6 KiB