Package: MACSr Version: 1.16.0 Command: /home/biocbuild/bbs-3.21-bioc/R/bin/R CMD build --keep-empty-dirs --no-resave-data MACSr StartedAt: 2025-10-15 18:15:44 -0400 (Wed, 15 Oct 2025) EndedAt: 2025-10-15 18:16:20 -0400 (Wed, 15 Oct 2025) EllapsedTime: 36.0 seconds RetCode: 0 Status: OK PackageFile: MACSr_1.16.0.tar.gz PackageFileSize: 5.112 MiB