Package: MACSQuantifyR Version: 1.22.0 Command: /home/biocbuild/bbs-3.21-bioc/R/bin/R CMD INSTALL MACSQuantifyR StartedAt: 2025-10-15 15:10:29 -0400 (Wed, 15 Oct 2025) EndedAt: 2025-10-15 15:10:40 -0400 (Wed, 15 Oct 2025) EllapsedTime: 10.7 seconds RetCode: 0 Status: OK