Package: MACSQuantifyR Version: 1.22.0 Command: /home/biocbuild/bbs-3.21-bioc/R/bin/R CMD build --keep-empty-dirs --no-resave-data MACSQuantifyR StartedAt: 2025-10-15 18:15:42 -0400 (Wed, 15 Oct 2025) EndedAt: 2025-10-15 18:16:06 -0400 (Wed, 15 Oct 2025) EllapsedTime: 24.0 seconds RetCode: 0 Status: OK PackageFile: MACSQuantifyR_1.22.0.tar.gz PackageFileSize: 3.777 MiB