Package: MACSQuantifyR Version: 1.22.0 Command: /home/biocbuild/R/R/bin/R CMD INSTALL MACSQuantifyR StartedAt: 2025-10-13 20:22:26 -0000 (Mon, 13 Oct 2025) EndedAt: 2025-10-13 20:22:40 -0000 (Mon, 13 Oct 2025) EllapsedTime: 14.7 seconds RetCode: 0 Status: OK