Package: MACSQuantifyR Version: 1.22.0 Command: /Library/Frameworks/R.framework/Resources/bin/R CMD INSTALL MACSQuantifyR StartedAt: 2025-10-13 15:30:56 -0400 (Mon, 13 Oct 2025) EndedAt: 2025-10-13 15:31:03 -0400 (Mon, 13 Oct 2025) EllapsedTime: 7.2 seconds RetCode: 0 Status: OK