Package: MACSQuantifyR Version: 1.22.0 Command: rm -rf MACSQuantifyR.buildbin-libdir && mkdir MACSQuantifyR.buildbin-libdir && /Users/biocbuild/BBS/utils/build-universal.sh MACSQuantifyR_1.22.0.tar.gz /Library/Frameworks/R.framework/Resources/bin/R MACSQuantifyR.buildbin-libdir StartedAt: 2025-10-15 19:07:06 -0400 (Wed, 15 Oct 2025) EndedAt: 2025-10-15 19:07:16 -0400 (Wed, 15 Oct 2025) EllapsedTime: 10.3 seconds RetCode: 0 Status: OK PackageFile: MACSQuantifyR_1.22.0.tgz PackageFileSize: 4.466 MiB