Package: M3Drop Version: 1.34.0 Command: /home/biocbuild/bbs-3.21-bioc/R/bin/R CMD INSTALL M3Drop StartedAt: 2025-10-15 15:55:04 -0400 (Wed, 15 Oct 2025) EndedAt: 2025-10-15 15:55:21 -0400 (Wed, 15 Oct 2025) EllapsedTime: 17.2 seconds RetCode: 0 Status: OK