Package: M3Drop Version: 1.34.0 Command: /home/biocbuild/bbs-3.21-bioc/R/bin/R CMD build --keep-empty-dirs --no-resave-data M3Drop StartedAt: 2025-10-15 18:15:17 -0400 (Wed, 15 Oct 2025) EndedAt: 2025-10-15 18:16:58 -0400 (Wed, 15 Oct 2025) EllapsedTime: 101.1 seconds RetCode: 0 Status: OK PackageFile: M3Drop_1.34.0.tar.gz PackageFileSize: 12.25 MiB