Package: M3Drop Version: 1.34.0 Command: /home/biocbuild/R/R/bin/R CMD INSTALL M3Drop StartedAt: 2025-10-13 21:14:43 -0000 (Mon, 13 Oct 2025) EndedAt: 2025-10-13 21:15:08 -0000 (Mon, 13 Oct 2025) EllapsedTime: 24.8 seconds RetCode: 0 Status: OK