Package: M3Drop Version: 1.34.0 Command: /home/biocbuild/R/R/bin/R CMD build --keep-empty-dirs --no-resave-data M3Drop StartedAt: 2025-10-14 02:03:10 -0000 (Tue, 14 Oct 2025) EndedAt: 2025-10-14 02:05:58 -0000 (Tue, 14 Oct 2025) EllapsedTime: 168.1 seconds RetCode: 0 Status: OK PackageFile: M3Drop_1.34.0.tar.gz PackageFileSize: 12.24 MiB