Package: M3C Version: 1.30.0 Command: /home/biocbuild/R/R/bin/R CMD INSTALL M3C StartedAt: 2025-10-13 20:22:31 -0000 (Mon, 13 Oct 2025) EndedAt: 2025-10-13 20:22:49 -0000 (Mon, 13 Oct 2025) EllapsedTime: 18.0 seconds RetCode: 0 Status: OK