Package: M3C Version: 1.30.0 Command: /Library/Frameworks/R.framework/Resources/bin/R CMD build --keep-empty-dirs --no-resave-data M3C StartedAt: 2025-10-14 03:14:56 -0400 (Tue, 14 Oct 2025) EndedAt: 2025-10-14 03:15:59 -0400 (Tue, 14 Oct 2025) EllapsedTime: 62.8 seconds RetCode: 0 Status: OK PackageFile: M3C_1.30.0.tar.gz PackageFileSize: 589.3 KiB