Package: M3C Version: 1.30.0 Command: rm -rf M3C.buildbin-libdir && mkdir M3C.buildbin-libdir && /Users/biocbuild/BBS/utils/build-universal.sh M3C_1.30.0.tar.gz /Library/Frameworks/R.framework/Resources/bin/R M3C.buildbin-libdir StartedAt: 2025-10-15 19:06:36 -0400 (Wed, 15 Oct 2025) EndedAt: 2025-10-15 19:06:49 -0400 (Wed, 15 Oct 2025) EllapsedTime: 12.5 seconds RetCode: 0 Status: OK PackageFile: M3C_1.30.0.tgz PackageFileSize: 758.4 KiB