Package: LymphoSeq Version: 1.36.0 Command: /home/biocbuild/R/R/bin/R CMD INSTALL LymphoSeq StartedAt: 2025-10-13 20:58:04 -0000 (Mon, 13 Oct 2025) EndedAt: 2025-10-13 20:58:32 -0000 (Mon, 13 Oct 2025) EllapsedTime: 27.6 seconds RetCode: 0 Status: OK