Package: LymphoSeq Version: 1.36.0 Command: /home/biocbuild/R/R/bin/R CMD build --keep-empty-dirs --no-resave-data LymphoSeq StartedAt: 2025-10-14 02:02:43 -0000 (Tue, 14 Oct 2025) EndedAt: 2025-10-14 02:04:12 -0000 (Tue, 14 Oct 2025) EllapsedTime: 89.0 seconds RetCode: 0 Status: OK PackageFile: LymphoSeq_1.36.0.tar.gz PackageFileSize: 2.164 MiB