Package: LoomExperiment Version: 1.26.1 Command: /home/biocbuild/R/R/bin/R CMD INSTALL LoomExperiment StartedAt: 2025-10-13 20:51:27 -0000 (Mon, 13 Oct 2025) EndedAt: 2025-10-13 20:52:08 -0000 (Mon, 13 Oct 2025) EllapsedTime: 40.8 seconds RetCode: 0 Status: OK