Package: LoomExperiment Version: 1.26.1 Command: /home/biocbuild/R/R/bin/R CMD build --keep-empty-dirs --no-resave-data LoomExperiment StartedAt: 2025-10-14 02:02:24 -0000 (Tue, 14 Oct 2025) EndedAt: 2025-10-14 02:03:23 -0000 (Tue, 14 Oct 2025) EllapsedTime: 59.0 seconds RetCode: 0 Status: OK PackageFile: LoomExperiment_1.26.1.tar.gz PackageFileSize: 279.1 KiB